BEGIN:VCALENDAR
VERSION:2.0
PRODID:-//hacksw/handcal//NONSGML v1.0//EN
BEGIN:VEVENT
SUMMARY:CALENDRIER DU 2EM TRIMESTRE 2026
UID:43288395-77c5-48c4-a3f1-f96b6ad230ec
DTSTART:20260331T220000Z
DTEND:20260630T220000Z
LOCATION:Localisation   
CATEGORIES:Sportif
STATUS:
DESCRIPTION:<table style="height:191px;"
 width="325">
 	<tbody>
 		<tr>
 			<td class="xl68" colspan="9"
 style="height:22px;width:584px;text-align:center;padding-left:1px;background-color:#eeeeee;"><span
 style="font-size:17px;"><span style="color:#FF0000;"><span
 style="font-weight:700;"><span style="font-family:sans-serif;"><span
 style="font-style:normal;"><span
 style="text-decoration:none;">DEPARTS ECHELONNES DES
 GROUPES</span></span></span></span></span></span></td>
 		</tr>
 		<tr>
 			<td
 class="xl69" colspan="9"
 style="height:92px;width:584px;padding-left:1px;background-color:#eefdff;"><span
 style="font-size:17px;"><span style="color:#000000;"><span
 style="font-weight:700;"><span style="font-family:sans-serif;"><span
 style="font-style:normal;"><span style="text-decoration:none;">En cas
 de conditions meteorologiques defavorables (vigilance meteo orange
 declaree par les pouvoirs publics, brouillard, tempete, vent violent,
 canicule, orage, verglas, neige, luminosite insuffisante, …), les
 sorties programmees sont
 annulees.</span></span></span></span></span></span></td>
 		</tr>
 	</tbody>
 </table>
URL;VALUE=URI:https://velo-betton.sportsregions.fr/evenements/2026/04/01/calendrier-du-2em-trimestre-2026-2430313
END:VEVENT
END:VCALENDAR
